BEGIN:VCALENDAR
VERSION:2.0
PRODID:-//Brösarp - ECPv6.15.20//NONSGML v1.0//EN
CALSCALE:GREGORIAN
METHOD:PUBLISH
X-ORIGINAL-URL:https://brosarp.com
X-WR-CALDESC:Händelser för Brösarp
REFRESH-INTERVAL;VALUE=DURATION:PT1H
X-Robots-Tag:noindex
X-PUBLISHED-TTL:PT1H
BEGIN:VTIMEZONE
TZID:Europe/Stockholm
BEGIN:DAYLIGHT
TZOFFSETFROM:+0100
TZOFFSETTO:+0200
TZNAME:CEST
DTSTART:20250330T010000
END:DAYLIGHT
BEGIN:STANDARD
TZOFFSETFROM:+0200
TZOFFSETTO:+0100
TZNAME:CET
DTSTART:20251026T010000
END:STANDARD
BEGIN:DAYLIGHT
TZOFFSETFROM:+0100
TZOFFSETTO:+0200
TZNAME:CEST
DTSTART:20260329T010000
END:DAYLIGHT
BEGIN:STANDARD
TZOFFSETFROM:+0200
TZOFFSETTO:+0100
TZNAME:CET
DTSTART:20261025T010000
END:STANDARD
BEGIN:DAYLIGHT
TZOFFSETFROM:+0100
TZOFFSETTO:+0200
TZNAME:CEST
DTSTART:20270328T010000
END:DAYLIGHT
BEGIN:STANDARD
TZOFFSETFROM:+0200
TZOFFSETTO:+0100
TZNAME:CET
DTSTART:20271031T010000
END:STANDARD
END:VTIMEZONE
BEGIN:VEVENT
DTSTART;TZID=Europe/Stockholm:20260628T100000
DTEND;TZID=Europe/Stockholm:20260628T130000
DTSTAMP:20260420T022931
CREATED:20260129T180959Z
LAST-MODIFIED:20260130T152134Z
UID:10647-1782640800-1782651600@brosarp.com
SUMMARY:Bakluckeloppis
DESCRIPTION:Kom och sälj och fynda
URL:https://brosarp.com/https-brosarp-se-event-single-post-name/bakluckeloppis-18/
LOCATION:Gamla vägstationsområdet\, Smedjevägen 11\, Brösarp
ATTACH;FMTTYPE=image/png:https://brosarp.com/wp-content/uploads/2025/07/kartaloppis.png
END:VEVENT
BEGIN:VEVENT
DTSTART;TZID=Europe/Stockholm:20260726T100000
DTEND;TZID=Europe/Stockholm:20260726T130000
DTSTAMP:20260420T022931
CREATED:20260129T181128Z
LAST-MODIFIED:20260129T181128Z
UID:10649-1785060000-1785070800@brosarp.com
SUMMARY:Bakluckeloppis
DESCRIPTION:Kom och sälj och fynda
URL:https://brosarp.com/https-brosarp-se-event-single-post-name/bakluckeloppis-19/
LOCATION:Gamla vägstationsområdet\, Smedjevägen 11\, Brösarp
END:VEVENT
BEGIN:VEVENT
DTSTART;TZID=Europe/Stockholm:20260830T100000
DTEND;TZID=Europe/Stockholm:20260830T130000
DTSTAMP:20260420T022931
CREATED:20260129T181300Z
LAST-MODIFIED:20260130T150512Z
UID:10651-1788084000-1788094800@brosarp.com
SUMMARY:Bakluckeloppis
DESCRIPTION:Kom och sälj och fynda
URL:https://brosarp.com/https-brosarp-se-event-single-post-name/bakluckeloppis-20/
LOCATION:Gamla vägstationsområdet\, Smedjevägen 11\, Brösarp
ATTACH;FMTTYPE=image/png:https://brosarp.com/wp-content/uploads/2025/07/kartaloppis.png
END:VEVENT
BEGIN:VEVENT
DTSTART;TZID=Europe/Stockholm:20260906T110000
DTEND;TZID=Europe/Stockholm:20260906T150000
DTSTAMP:20260420T022931
CREATED:20260129T181856Z
LAST-MODIFIED:20260130T150356Z
UID:10653-1788692400-1788706800@brosarp.com
SUMMARY:Brösarpsdagen
DESCRIPTION:Första söndagen i september firar vi alltid Brösarpsdagen. Här kommer du att hitta lokala hantverkare och matproducenter. Ankrace i bäcken\, våra föreningar och företagare har en given plats och naturligtvis en hoppborg. Brösarps IF grillar korv och Brösarps Gästis ordnar med äggakaka. Musik och härligt umgänge.
URL:https://brosarp.com/https-brosarp-se-event-single-post-name/brosarpsdagen-2/
LOCATION:Brösarps Byaäng
ATTACH;FMTTYPE=image/jpeg:https://brosarp.com/wp-content/uploads/2013/12/brösarpsdagen-2010-ankrace-slutspurt.jpg
END:VEVENT
BEGIN:VEVENT
DTSTART;TZID=Europe/Stockholm:20260927T100000
DTEND;TZID=Europe/Stockholm:20260927T130000
DTSTAMP:20260420T022931
CREATED:20260129T182102Z
LAST-MODIFIED:20260130T150007Z
UID:10655-1790503200-1790514000@brosarp.com
SUMMARY:Bakluckeloppis
DESCRIPTION:Årets sista bakluckeloppis. Passa på att sälja och naturligtvis fynda.
URL:https://brosarp.com/https-brosarp-se-event-single-post-name/bakluckeloppis-21/
LOCATION:Gamla vägstationsområdet\, Smedjevägen 11\, Brösarp
ATTACH;FMTTYPE=image/png:https://brosarp.com/wp-content/uploads/2025/07/kartaloppis.png
END:VEVENT
BEGIN:VEVENT
DTSTART;TZID=Europe/Stockholm:20261031T180000
DTEND;TZID=Europe/Stockholm:20261031T200000
DTSTAMP:20260420T022931
CREATED:20260129T183236Z
LAST-MODIFIED:20260130T152546Z
UID:10657-1793469600-1793476800@brosarp.com
SUMMARY:Österlen lyser
DESCRIPTION:Byagillet tänder marschaller i byn och ordnar med tipspromenad som startar vid ICA 18.00. Fina priser till barn och vuxna. I programmet som skickats ut kom det med ett fel\, vad var det? Gissa rätt och du vinner ett pris!
URL:https://brosarp.com/https-brosarp-se-event-single-post-name/osterlen-lyser-2/
LOCATION:Brösarps by
ATTACH;FMTTYPE=image/jpeg:https://brosarp.com/wp-content/uploads/2023/09/ljus-scaled.jpg
END:VEVENT
BEGIN:VEVENT
DTSTART;TZID=Europe/Stockholm:20261128T110000
DTEND;TZID=Europe/Stockholm:20261128T150000
DTSTAMP:20260420T022931
CREATED:20260129T183713Z
LAST-MODIFIED:20260129T183713Z
UID:10659-1795863600-1795878000@brosarp.com
SUMMARY:Julmarknad i Brösarp
DESCRIPTION:Lördagen innan första advent har vi alltid julmarknad i Brösarp. Handla julklappar från lokala hantverkare och köp hem goda matvaror till julen. Tomten finns på plats och julmusik utlovas. Café Smulan ordnar med klenor och scouterna grillar korv.
URL:https://brosarp.com/https-brosarp-se-event-single-post-name/julmarknad-i-brosarp/
LOCATION:Brösarps bygdegård\, Albovägen 36\, Brösarp\, 273 50\, Sweden
END:VEVENT
END:VCALENDAR